BEGIN:VCALENDAR
VERSION:2.0
PRODID:-//Lüdenscheider Tennisclub Augustenthal e. V. - ECPv6.15.17.1//NONSGML v1.0//EN
CALSCALE:GREGORIAN
METHOD:PUBLISH
X-WR-CALNAME:Lüdenscheider Tennisclub Augustenthal e. V.
X-ORIGINAL-URL:https://www.ltcaugustenthal.de
X-WR-CALDESC:Veranstaltungen für Lüdenscheider Tennisclub Augustenthal e. V.
REFRESH-INTERVAL;VALUE=DURATION:PT1H
X-Robots-Tag:noindex
X-PUBLISHED-TTL:PT1H
BEGIN:VTIMEZONE
TZID:Europe/Berlin
BEGIN:DAYLIGHT
TZOFFSETFROM:+0100
TZOFFSETTO:+0200
TZNAME:CEST
DTSTART:20250330T010000
END:DAYLIGHT
BEGIN:STANDARD
TZOFFSETFROM:+0200
TZOFFSETTO:+0100
TZNAME:CET
DTSTART:20251026T010000
END:STANDARD
BEGIN:DAYLIGHT
TZOFFSETFROM:+0100
TZOFFSETTO:+0200
TZNAME:CEST
DTSTART:20260329T010000
END:DAYLIGHT
BEGIN:STANDARD
TZOFFSETFROM:+0200
TZOFFSETTO:+0100
TZNAME:CET
DTSTART:20261025T010000
END:STANDARD
BEGIN:DAYLIGHT
TZOFFSETFROM:+0100
TZOFFSETTO:+0200
TZNAME:CEST
DTSTART:20270328T010000
END:DAYLIGHT
BEGIN:STANDARD
TZOFFSETFROM:+0200
TZOFFSETTO:+0100
TZNAME:CET
DTSTART:20271031T010000
END:STANDARD
END:VTIMEZONE
BEGIN:VEVENT
DTSTART;TZID=Europe/Berlin:20261031T180000
DTEND;TZID=Europe/Berlin:20261101T010000
DTSTAMP:20260420T030018
CREATED:20260223T100007Z
LAST-MODIFIED:20260223T100707Z
UID:1432-1793469600-1793494800@www.ltcaugustenthal.de
SUMMARY:5. Augustenthaler Weinfest
DESCRIPTION:Zum fünften Mal lädt der LTC Augustenthal zum genussvollen Jahresausklang ein. Bei unserem Weinfest dreht sich wieder alles um eine ausgewählte deutsche Weinregion\, deren edle Tropfen wir gemeinsam entdecken. Dazu gibt’s typische Leckereien\, gesellige Stimmung und wie immer: beste Gesellschaft. Save the date – weitere Infos folgen!
URL:https://www.ltcaugustenthal.de/event/4-augustenthaler-weinfest-voraussichtlich-am-25-10-2025/
LOCATION:LTC Augustenthal\, Am Nattenberg 1b\, Lüdenscheid\, NRW\, 58515\, Germany
ORGANIZER;CN="LTC Augustenthal":MAILTO:info@ltcaugustenthal.de
END:VEVENT
END:VCALENDAR